BEGIN:VCALENDAR
VERSION:2.0
PRODID:icalendar-ruby
CALSCALE:GREGORIAN
METHOD:PUBLISH
BEGIN:VEVENT
DTSTAMP:20260425T102047Z
UID:76-238278@discoveryal.church
DTSTART:20260622T140000Z
DTEND:20260624T170000Z
CLASS:PUBLIC
CREATED:20260424T152133
DESCRIPTION:Get ready for three fun-filled mornings at DC Kids VBS as we ex
 plore the Fruit of the Spirit! Through engaging lessons\, worship\, games\
 , and activities\, kids will learn what it means to live a life full of lo
 ve\, joy\, peace\, patience\, kindness\, goodness\, faithfulness\, gentlen
 ess\, and self-control.\n\n\nJune 22–249:00 AM – 12:00 PM (Doors open
  at 8:45 AM)Ages Pre-K3 through 5th GradeFree Event\n\nSnacks will be prov
 ided each day\, and on the final day (June 24)\, kids will enjoy pizza for
  lunch as we wrap up an amazing time together!\n\nBe sure to register by 
 Friday\, June 19th to secure your child’s spot.\n\n\nWe can’t wait to
  see your kids there! 
LAST-MODIFIED:20260424T152133
LOCATION:Discovery Church 
SUMMARY:VBS | Fruit of the Spirit
URL;VALUE=URI:https://discoveryal.church/events/vbs-fruit-of-the-spirit/202
 6-06-22
ATTACH;FILENAME=Find-a-Word.png;FMTTYPE=image/png:https://dq5pwpg1q8ru0.clo
 udfront.net/2026/04/24/20/21/33/f5a61810-0fab-4592-ab76-3c90d08e46bf/Find-
 a-Word.png
END:VEVENT
END:VCALENDAR
