BEGIN:VCALENDAR
VERSION:2.0
PRODID:icalendar-ruby
CALSCALE:GREGORIAN
METHOD:PUBLISH
BEGIN:VEVENT
DTSTAMP:20260421T135719Z
UID:73-209994@discoveryal.church
DTSTART:20260503T180000Z
DTEND:20260503T190000Z
CLASS:PUBLIC
CREATED:20260324T141708
DESCRIPTION:Our Soul on Fire Drama Team is bringing a special presentation 
 on Sunday\, May 3rd at 1 PM—and you’re invited! \nAfter the performan
 ce\, join us for a dessert social. This event is free\, and the ministry w
 ill be accepting donations for those who feel led to give.
LAST-MODIFIED:20260324T141708
LOCATION:Discovery Church 
SUMMARY:Soul on Fire
URL;VALUE=URI:https://discoveryal.church/events/soul-on-fire--73/2026-05-03
ATTACH;FILENAME=drama-1920-x-1080-px-2.png;FMTTYPE=image/png:https://dq5pwp
 g1q8ru0.cloudfront.net/2026/03/24/19/17/08/45d31ecd-a2b2-42c7-9f03-a655839
 c262a/drama-1920-x-1080-px-2.png
END:VEVENT
END:VCALENDAR
