BEGIN:VCALENDAR
VERSION:2.0
PRODID:icalendar-ruby
CALSCALE:GREGORIAN
METHOD:PUBLISH
BEGIN:VEVENT
DTSTAMP:20260421T135717Z
UID:74-214647@discoveryal.church
DTSTART:20260509T220000Z
DTEND:20260510T010000Z
CLASS:PUBLIC
CREATED:20260329T161357
DESCRIPTION:Join us for a special Mother and Son Movie Night on Saturday\, 
 May 9th at 5 PM. This fun and meaningful evening is designed for moms and 
 their sons to spend quality time together\, make memories\, and enjoy a gr
 eat film.\nWe will be watching The David Movie while enjoying pizza and sn
 acks provided for everyone. It’s the perfect opportunity to relax\, laug
 h\, and connect in a welcoming environment.\nCost is $15 per mom and son\,
  with an additional $5 for each extra son.\nWe can’t wait to see you the
 re for an unforgettable night together!
LAST-MODIFIED:20260329T161357
LOCATION:Discovery Church 
SUMMARY:Mother + Son Movie Night
URL;VALUE=URI:https://discoveryal.church/events/mother-son-movie-night/2026
 -05-09
ATTACH;FILENAME=MOTHER--SON.png;FMTTYPE=image/png:https://dq5pwpg1q8ru0.clo
 udfront.net/2026/03/29/21/13/57/4820aaed-629e-4917-a80e-d2354fb0c984/MOTHE
 R--SON.png
END:VEVENT
END:VCALENDAR
