BEGIN:VCALENDAR
VERSION:2.0
PRODID:icalendar-ruby
CALSCALE:GREGORIAN
METHOD:PUBLISH
BEGIN:VEVENT
DTSTAMP:20260421T135718Z
UID:75-229677@discoveryal.church
DTSTART:20260514T233000Z
DTEND:20260515T000000Z
CLASS:PUBLIC
CREATED:20260415T085223
DESCRIPTION:\n\n\n\n\n\n\n\nJoin us for a special Missions Night at Discove
 ry\, open to the entire church and led by Steve and Connie Hutto\, who car
 ry a deep passion for global outreach.\nThis powerful evening is designed 
 to help you discover God’s heart for the nations\, learn more about the 
 missionaries we support\, and explore how you can personally be part of ad
 vancing the Gospel beyond our borders.\nWe’re honored to welcome our spe
 cial guest\, Pastor Sam Gaddam from India\, who will share an inspiring up
 date on the life-changing work God is doing through his ministry and how w
 e can partner with him.\nCome be inspired\, grow in vision\, and be part o
 f what God is doing both locally and around the world.\n\n\n\n\n\n\n\n\n\n
 \n\n
LAST-MODIFIED:20260415T085223
LOCATION:Discovery Church 
SUMMARY:Mission's Ministry Meeting 
URL;VALUE=URI:https://discoveryal.church/events/missions-ministry-meeting--
 75/2026-05-14
ATTACH;FILENAME=DISCOVERY-CHURCH-%284%29.png;FMTTYPE=image/png:https://dq5p
 wpg1q8ru0.cloudfront.net/2026/03/29/22/37/44/c2f2c783-f4a9-48a9-a45f-75e53
 b1a6b36/DISCOVERY-CHURCH-%25284%2529.png
END:VEVENT
END:VCALENDAR
